BEGIN:VCALENDAR
VERSION:2.0
PRODID:-//Mountain Acres Lodge - ECPv6.15.20//NONSGML v1.0//EN
CALSCALE:GREGORIAN
METHOD:PUBLISH
X-WR-CALNAME:Mountain Acres Lodge
X-ORIGINAL-URL:https://www.mountainacreslodge.com
X-WR-CALDESC:Events for Mountain Acres Lodge
REFRESH-INTERVAL;VALUE=DURATION:PT1H
X-Robots-Tag:noindex
X-PUBLISHED-TTL:PT1H
BEGIN:VTIMEZONE
TZID:America/New_York
BEGIN:DAYLIGHT
TZOFFSETFROM:-0500
TZOFFSETTO:-0400
TZNAME:EDT
DTSTART:20230312T070000
END:DAYLIGHT
BEGIN:STANDARD
TZOFFSETFROM:-0400
TZOFFSETTO:-0500
TZNAME:EST
DTSTART:20231105T060000
END:STANDARD
BEGIN:DAYLIGHT
TZOFFSETFROM:-0500
TZOFFSETTO:-0400
TZNAME:EDT
DTSTART:20240310T070000
END:DAYLIGHT
BEGIN:STANDARD
TZOFFSETFROM:-0400
TZOFFSETTO:-0500
TZNAME:EST
DTSTART:20241103T060000
END:STANDARD
BEGIN:DAYLIGHT
TZOFFSETFROM:-0500
TZOFFSETTO:-0400
TZNAME:EDT
DTSTART:20250309T070000
END:DAYLIGHT
BEGIN:STANDARD
TZOFFSETFROM:-0400
TZOFFSETTO:-0500
TZNAME:EST
DTSTART:20251102T060000
END:STANDARD
END:VTIMEZONE
BEGIN:VEVENT
DTSTART;TZID=America/New_York:20241011T120000
DTEND;TZID=America/New_York:20241013T120000
DTSTAMP:20260419T093158
CREATED:20240321T145136Z
LAST-MODIFIED:20240321T145136Z
UID:4677-1728648000-1728820800@www.mountainacreslodge.com
SUMMARY:Luzerne County Treatment Corp
DESCRIPTION:Tim Hlivia
URL:https://www.mountainacreslodge.com/event/luzerne-county-treatment-corp/
CATEGORIES:Lodge
END:VEVENT
END:VCALENDAR