BEGIN:VCALENDAR
VERSION:2.0
PRODID:-//Mountain Acres Lodge - ECPv6.15.20//NONSGML v1.0//EN
CALSCALE:GREGORIAN
METHOD:PUBLISH
X-WR-CALNAME:Mountain Acres Lodge
X-ORIGINAL-URL:https://www.mountainacreslodge.com
X-WR-CALDESC:Events for Mountain Acres Lodge
REFRESH-INTERVAL;VALUE=DURATION:PT1H
X-Robots-Tag:noindex
X-PUBLISHED-TTL:PT1H
BEGIN:VTIMEZONE
TZID:America/New_York
BEGIN:DAYLIGHT
TZOFFSETFROM:-0500
TZOFFSETTO:-0400
TZNAME:EDT
DTSTART:20210314T070000
END:DAYLIGHT
BEGIN:STANDARD
TZOFFSETFROM:-0400
TZOFFSETTO:-0500
TZNAME:EST
DTSTART:20211107T060000
END:STANDARD
BEGIN:DAYLIGHT
TZOFFSETFROM:-0500
TZOFFSETTO:-0400
TZNAME:EDT
DTSTART:20220313T070000
END:DAYLIGHT
BEGIN:STANDARD
TZOFFSETFROM:-0400
TZOFFSETTO:-0500
TZNAME:EST
DTSTART:20221106T060000
END:STANDARD
BEGIN:DAYLIGHT
TZOFFSETFROM:-0500
TZOFFSETTO:-0400
TZNAME:EDT
DTSTART:20230312T070000
END:DAYLIGHT
BEGIN:STANDARD
TZOFFSETFROM:-0400
TZOFFSETTO:-0500
TZNAME:EST
DTSTART:20231105T060000
END:STANDARD
BEGIN:DAYLIGHT
TZOFFSETFROM:-0500
TZOFFSETTO:-0400
TZNAME:EDT
DTSTART:20240310T070000
END:DAYLIGHT
BEGIN:STANDARD
TZOFFSETFROM:-0400
TZOFFSETTO:-0500
TZNAME:EST
DTSTART:20241103T060000
END:STANDARD
END:VTIMEZONE
BEGIN:VEVENT
DTSTART;TZID=America/New_York:20230331T120000
DTEND;TZID=America/New_York:20230402T120000
DTSTAMP:20260420T041515
CREATED:20221027T235520Z
LAST-MODIFIED:20221027T235520Z
UID:4339-1680264000-1680436800@www.mountainacreslodge.com
SUMMARY:Chris Yingling
DESCRIPTION:
URL:https://www.mountainacreslodge.com/event/chris-yingling-21/
CATEGORIES:Lodge
END:VEVENT
BEGIN:VEVENT
DTSTART;TZID=America/New_York:20230329T120000
DTEND;TZID=America/New_York:20230330T170000
DTSTAMP:20260420T041515
CREATED:20230309T023637Z
LAST-MODIFIED:20230309T023637Z
UID:4461-1680091200-1680195600@www.mountainacreslodge.com
SUMMARY:Wade Curry
DESCRIPTION:
URL:https://www.mountainacreslodge.com/event/wade-curry-54/
CATEGORIES:Lodge
END:VEVENT
BEGIN:VEVENT
DTSTART;VALUE=DATE:20230325
DTEND;VALUE=DATE:20230326
DTSTAMP:20260420T041515
CREATED:20221027T235436Z
LAST-MODIFIED:20221027T235436Z
UID:4337-1679702400-1679788799@www.mountainacreslodge.com
SUMMARY:Youth Trout - All members welcome
DESCRIPTION:
URL:https://www.mountainacreslodge.com/event/youth-trout-all-members-welcome/
CATEGORIES:Lodge
END:VEVENT
BEGIN:VEVENT
DTSTART;TZID=America/New_York:20230322T170000
DTEND;TZID=America/New_York:20230322T210000
DTSTAMP:20260420T041515
CREATED:20221028T002549Z
LAST-MODIFIED:20221028T002549Z
UID:4393-1679504400-1679518800@www.mountainacreslodge.com
SUMMARY:Dinner Meeting
DESCRIPTION:
URL:https://www.mountainacreslodge.com/event/dinner-meeting-104/
CATEGORIES:Lodge
END:VEVENT
BEGIN:VEVENT
DTSTART;TZID=America/New_York:20230317T120000
DTEND;TZID=America/New_York:20230319T120000
DTSTAMP:20260420T041515
CREATED:20221027T235402Z
LAST-MODIFIED:20221027T235402Z
UID:4335-1679054400-1679227200@www.mountainacreslodge.com
SUMMARY:Norm Fedon
DESCRIPTION:
URL:https://www.mountainacreslodge.com/event/norm-fedon-37/
CATEGORIES:Lodge
END:VEVENT
BEGIN:VEVENT
DTSTART;TZID=America/New_York:20230310T120000
DTEND;TZID=America/New_York:20230312T120000
DTSTAMP:20260420T041515
CREATED:20221027T235318Z
LAST-MODIFIED:20221027T235318Z
UID:4333-1678449600-1678622400@www.mountainacreslodge.com
SUMMARY:Howard Foss
DESCRIPTION:
URL:https://www.mountainacreslodge.com/event/howard-foss-2/
CATEGORIES:Lodge
END:VEVENT
BEGIN:VEVENT
DTSTART;TZID=America/New_York:20230303T120000
DTEND;TZID=America/New_York:20230305T120000
DTSTAMP:20260420T041515
CREATED:20221027T235243Z
LAST-MODIFIED:20221027T235243Z
UID:4331-1677844800-1678017600@www.mountainacreslodge.com
SUMMARY:Tom Yingling
DESCRIPTION:
URL:https://www.mountainacreslodge.com/event/tom-yingling-45/
CATEGORIES:Lodge
END:VEVENT
BEGIN:VEVENT
DTSTART;TZID=America/New_York:20230224T120000
DTEND;TZID=America/New_York:20230226T120000
DTSTAMP:20260420T041515
CREATED:20221027T235123Z
LAST-MODIFIED:20230202T223149Z
UID:4327-1677240000-1677412800@www.mountainacreslodge.com
SUMMARY:Todd Kulka
DESCRIPTION:
URL:https://www.mountainacreslodge.com/event/todd-kulka-56/
CATEGORIES:Lodge
END:VEVENT
BEGIN:VEVENT
DTSTART;TZID=America/New_York:20230222T170000
DTEND;TZID=America/New_York:20230222T210000
DTSTAMP:20260420T041515
CREATED:20221028T002513Z
LAST-MODIFIED:20221028T002513Z
UID:4391-1677085200-1677099600@www.mountainacreslodge.com
SUMMARY:Dinner Meeting
DESCRIPTION:
URL:https://www.mountainacreslodge.com/event/dinner-meeting-103/
CATEGORIES:Lodge
END:VEVENT
BEGIN:VEVENT
DTSTART;TZID=America/New_York:20230217T120000
DTEND;TZID=America/New_York:20230219T120000
DTSTAMP:20260420T041515
CREATED:20221027T235159Z
LAST-MODIFIED:20230202T223235Z
UID:4329-1676635200-1676808000@www.mountainacreslodge.com
SUMMARY:John Cz
DESCRIPTION:
URL:https://www.mountainacreslodge.com/event/john-cz-42/
CATEGORIES:Lodge
END:VEVENT
BEGIN:VEVENT
DTSTART;TZID=America/New_York:20230210T120000
DTEND;TZID=America/New_York:20230211T170000
DTSTAMP:20260420T041515
CREATED:20230107T224948Z
LAST-MODIFIED:20230202T223633Z
UID:4429-1676030400-1676134800@www.mountainacreslodge.com
SUMMARY:Hugh Givens
DESCRIPTION:
URL:https://www.mountainacreslodge.com/event/hugh-givens-68/
CATEGORIES:Lodge
END:VEVENT
BEGIN:VEVENT
DTSTART;TZID=America/New_York:20230203T080000
DTEND;TZID=America/New_York:20230204T170000
DTSTAMP:20260420T041515
CREATED:20230202T223457Z
LAST-MODIFIED:20230202T223457Z
UID:4442-1675411200-1675530000@www.mountainacreslodge.com
SUMMARY:Todd Kulka
DESCRIPTION:
URL:https://www.mountainacreslodge.com/event/todd-kulka-57/
CATEGORIES:Lodge
END:VEVENT
BEGIN:VEVENT
DTSTART;TZID=America/New_York:20230126T120000
DTEND;TZID=America/New_York:20230129T120000
DTSTAMP:20260420T041515
CREATED:20221027T234952Z
LAST-MODIFIED:20221027T234952Z
UID:4323-1674734400-1674993600@www.mountainacreslodge.com
SUMMARY:Ed Curry
DESCRIPTION:
URL:https://www.mountainacreslodge.com/event/ed-curry-70/
CATEGORIES:Lodge
END:VEVENT
BEGIN:VEVENT
DTSTART;TZID=America/New_York:20230125T050000
DTEND;TZID=America/New_York:20230125T210000
DTSTAMP:20260420T041515
CREATED:20221028T002334Z
LAST-MODIFIED:20221028T002334Z
UID:4389-1674622800-1674680400@www.mountainacreslodge.com
SUMMARY:Dinner Meeting
DESCRIPTION:
URL:https://www.mountainacreslodge.com/event/dinner-meeting-102/
CATEGORIES:Lodge
END:VEVENT
BEGIN:VEVENT
DTSTART;TZID=America/New_York:20230121T120000
DTEND;TZID=America/New_York:20230122T120000
DTSTAMP:20260420T041515
CREATED:20230111T234109Z
LAST-MODIFIED:20230111T234125Z
UID:4437-1674302400-1674388800@www.mountainacreslodge.com
SUMMARY:Dave Woodring
DESCRIPTION:
URL:https://www.mountainacreslodge.com/event/dave-woodring-72/
CATEGORIES:Lodge
END:VEVENT
BEGIN:VEVENT
DTSTART;TZID=America/New_York:20230108T080000
DTEND;TZID=America/New_York:20230114T170000
DTSTAMP:20260420T041515
CREATED:20221028T002223Z
LAST-MODIFIED:20221028T002223Z
UID:4387-1673164800-1673715600@www.mountainacreslodge.com
SUMMARY:Flintlock - All members
DESCRIPTION:
URL:https://www.mountainacreslodge.com/event/flintlock-all-members-9/
CATEGORIES:Lodge
END:VEVENT
BEGIN:VEVENT
DTSTART;TZID=America/New_York:20221229T120000
DTEND;TZID=America/New_York:20230102T120000
DTSTAMP:20260420T041515
CREATED:20211029T015639Z
LAST-MODIFIED:20211029T015639Z
UID:4214-1672315200-1672660800@www.mountainacreslodge.com
SUMMARY:Dave Woodring
DESCRIPTION:
URL:https://www.mountainacreslodge.com/event/dave-woodring-70/
CATEGORIES:Lodge
END:VEVENT
BEGIN:VEVENT
DTSTART;TZID=America/New_York:20221227T120000
DTEND;TZID=America/New_York:20221229T120000
DTSTAMP:20260420T041515
CREATED:20221016T193432Z
LAST-MODIFIED:20221016T193533Z
UID:4315-1672142400-1672315200@www.mountainacreslodge.com
SUMMARY:Geoff Brugler
DESCRIPTION:
URL:https://www.mountainacreslodge.com/event/geoff-bruegler/
CATEGORIES:Lodge
END:VEVENT
BEGIN:VEVENT
DTSTART;TZID=America/New_York:20221223T120000
DTEND;TZID=America/New_York:20221227T120000
DTSTAMP:20260420T041515
CREATED:20211029T015553Z
LAST-MODIFIED:20211029T015553Z
UID:4212-1671796800-1672142400@www.mountainacreslodge.com
SUMMARY:Mark Remy
DESCRIPTION:
URL:https://www.mountainacreslodge.com/event/mark-remy-24/
CATEGORIES:Lodge
END:VEVENT
BEGIN:VEVENT
DTSTART;TZID=America/New_York:20221125T120000
DTEND;TZID=America/New_York:20221211T120000
DTSTAMP:20260420T041515
CREATED:20211029T015505Z
LAST-MODIFIED:20211029T015505Z
UID:4210-1669377600-1670760000@www.mountainacreslodge.com
SUMMARY:Hunting Camp
DESCRIPTION:
URL:https://www.mountainacreslodge.com/event/hunting-camp-35/
CATEGORIES:Lodge
END:VEVENT
BEGIN:VEVENT
DTSTART;TZID=America/New_York:20221122T120000
DTEND;TZID=America/New_York:20221125T120000
DTSTAMP:20260420T041515
CREATED:20211029T015405Z
LAST-MODIFIED:20211029T015405Z
UID:4208-1669118400-1669377600@www.mountainacreslodge.com
SUMMARY:Eric Norman
DESCRIPTION:
URL:https://www.mountainacreslodge.com/event/eric-norman-47/
CATEGORIES:Lodge
END:VEVENT
BEGIN:VEVENT
DTSTART;TZID=America/New_York:20221116T120000
DTEND;TZID=America/New_York:20221120T120000
DTSTAMP:20260420T041515
CREATED:20211029T015321Z
LAST-MODIFIED:20211029T015321Z
UID:4206-1668600000-1668945600@www.mountainacreslodge.com
SUMMARY:Neal Smith
DESCRIPTION:
URL:https://www.mountainacreslodge.com/event/neal-smith-69/
CATEGORIES:Lodge
END:VEVENT
BEGIN:VEVENT
DTSTART;TZID=America/New_York:20221111T120000
DTEND;TZID=America/New_York:20221114T120000
DTSTAMP:20260420T041515
CREATED:20211029T111810Z
LAST-MODIFIED:20211029T111810Z
UID:4216-1668168000-1668427200@www.mountainacreslodge.com
SUMMARY:Courtney Munjack
DESCRIPTION:
URL:https://www.mountainacreslodge.com/event/courtney-munjack-39/
CATEGORIES:Lodge
END:VEVENT
BEGIN:VEVENT
DTSTART;TZID=America/New_York:20221106T120000
DTEND;TZID=America/New_York:20221110T120000
DTSTAMP:20260420T041515
CREATED:20211107T204451Z
LAST-MODIFIED:20221028T010312Z
UID:4233-1667736000-1668081600@www.mountainacreslodge.com
SUMMARY:Archery  - open to all members
DESCRIPTION:
URL:https://www.mountainacreslodge.com/event/rut-week-open-to-all-members/
CATEGORIES:Lodge
END:VEVENT
BEGIN:VEVENT
DTSTART;TZID=America/New_York:20221103T120000
DTEND;TZID=America/New_York:20221106T120000
DTSTAMP:20260420T041515
CREATED:20211029T015202Z
LAST-MODIFIED:20211029T015202Z
UID:4204-1667476800-1667736000@www.mountainacreslodge.com
SUMMARY:Mike Petroski
DESCRIPTION:
URL:https://www.mountainacreslodge.com/event/mike-petroski-28/
CATEGORIES:Lodge
END:VEVENT
BEGIN:VEVENT
DTSTART;TZID=America/New_York:20221028T120000
DTEND;TZID=America/New_York:20221030T120000
DTSTAMP:20260420T041515
CREATED:20211029T015120Z
LAST-MODIFIED:20211029T015120Z
UID:4202-1666958400-1667131200@www.mountainacreslodge.com
SUMMARY:Steve Seby
DESCRIPTION:
URL:https://www.mountainacreslodge.com/event/steve-seby-67/
CATEGORIES:Lodge
END:VEVENT
BEGIN:VEVENT
DTSTART;TZID=America/New_York:20221026T190000
DTEND;TZID=America/New_York:20221026T210000
DTSTAMP:20260420T041515
CREATED:20210627T214603Z
LAST-MODIFIED:20210627T215102Z
UID:4068-1666810800-1666818000@www.mountainacreslodge.com
SUMMARY:Dinner Meeting/Annual Business Meeting
DESCRIPTION:
URL:https://www.mountainacreslodge.com/event/dinner-meeting-annual-business-meeting-2/
CATEGORIES:Lodge
END:VEVENT
BEGIN:VEVENT
DTSTART;TZID=America/New_York:20221020T120000
DTEND;TZID=America/New_York:20221023T120000
DTSTAMP:20260420T041515
CREATED:20211029T015045Z
LAST-MODIFIED:20211029T015045Z
UID:4200-1666267200-1666526400@www.mountainacreslodge.com
SUMMARY:Mark Hidlay
DESCRIPTION:
URL:https://www.mountainacreslodge.com/event/mark-hidlay-58/
CATEGORIES:Lodge
END:VEVENT
BEGIN:VEVENT
DTSTART;TZID=America/New_York:20221014T120000
DTEND;TZID=America/New_York:20221016T120000
DTSTAMP:20260420T041515
CREATED:20211029T015006Z
LAST-MODIFIED:20211029T015006Z
UID:4198-1665748800-1665921600@www.mountainacreslodge.com
SUMMARY:Mike Stuck
DESCRIPTION:
URL:https://www.mountainacreslodge.com/event/mike-stuck-53/
CATEGORIES:Lodge
END:VEVENT
BEGIN:VEVENT
DTSTART;TZID=America/New_York:20221006T080000
DTEND;TZID=America/New_York:20221008T120000
DTSTAMP:20260420T041515
CREATED:20211031T213926Z
LAST-MODIFIED:20220118T114759Z
UID:4219-1665043200-1665230400@www.mountainacreslodge.com
SUMMARY:Bob Richard
DESCRIPTION:Wedding
URL:https://www.mountainacreslodge.com/event/taylor-kuhns/
CATEGORIES:Lodge
END:VEVENT
END:VCALENDAR