BEGIN:VCALENDAR
VERSION:2.0
PRODID:-//Mountain Acres Lodge - ECPv6.15.20//NONSGML v1.0//EN
CALSCALE:GREGORIAN
METHOD:PUBLISH
X-WR-CALNAME:Mountain Acres Lodge
X-ORIGINAL-URL:https://www.mountainacreslodge.com
X-WR-CALDESC:Events for Mountain Acres Lodge
REFRESH-INTERVAL;VALUE=DURATION:PT1H
X-Robots-Tag:noindex
X-PUBLISHED-TTL:PT1H
BEGIN:VTIMEZONE
TZID:America/New_York
BEGIN:DAYLIGHT
TZOFFSETFROM:-0500
TZOFFSETTO:-0400
TZNAME:EDT
DTSTART:20220313T070000
END:DAYLIGHT
BEGIN:STANDARD
TZOFFSETFROM:-0400
TZOFFSETTO:-0500
TZNAME:EST
DTSTART:20221106T060000
END:STANDARD
BEGIN:DAYLIGHT
TZOFFSETFROM:-0500
TZOFFSETTO:-0400
TZNAME:EDT
DTSTART:20230312T070000
END:DAYLIGHT
BEGIN:STANDARD
TZOFFSETFROM:-0400
TZOFFSETTO:-0500
TZNAME:EST
DTSTART:20231105T060000
END:STANDARD
BEGIN:DAYLIGHT
TZOFFSETFROM:-0500
TZOFFSETTO:-0400
TZNAME:EDT
DTSTART:20240310T070000
END:DAYLIGHT
BEGIN:STANDARD
TZOFFSETFROM:-0400
TZOFFSETTO:-0500
TZNAME:EST
DTSTART:20241103T060000
END:STANDARD
END:VTIMEZONE
BEGIN:VEVENT
DTSTART;TZID=America/New_York:20230712T080000
DTEND;TZID=America/New_York:20230712T170000
DTSTAMP:20260420T013637
CREATED:20230623T165034Z
LAST-MODIFIED:20230623T170320Z
UID:4502-1689148800-1689181200@www.mountainacreslodge.com
SUMMARY:Stove maintenance
DESCRIPTION:
URL:https://www.mountainacreslodge.com/event/stove-maintenance/
CATEGORIES:Lodge
END:VEVENT
BEGIN:VEVENT
DTSTART;TZID=America/New_York:20230707T120000
DTEND;TZID=America/New_York:20230709T120000
DTSTAMP:20260420T013637
CREATED:20221220T180533Z
LAST-MODIFIED:20221220T180533Z
UID:4422-1688731200-1688904000@www.mountainacreslodge.com
SUMMARY:Robert Carney
DESCRIPTION:Family Reunion – son of former member
URL:https://www.mountainacreslodge.com/event/robert-carney/
CATEGORIES:Lodge
END:VEVENT
BEGIN:VEVENT
DTSTART;TZID=America/New_York:20230704T080000
DTEND;TZID=America/New_York:20230704T220000
DTSTAMP:20260420T013637
CREATED:20230622T111607Z
LAST-MODIFIED:20230622T111607Z
UID:4500-1688457600-1688508000@www.mountainacreslodge.com
SUMMARY:Todd Kulka
DESCRIPTION:
URL:https://www.mountainacreslodge.com/event/todd-kulka-58/
CATEGORIES:Lodge
END:VEVENT
BEGIN:VEVENT
DTSTART;TZID=America/New_York:20230628T170000
DTEND;TZID=America/New_York:20230628T210000
DTSTAMP:20260420T013637
CREATED:20221028T002740Z
LAST-MODIFIED:20221028T002740Z
UID:4399-1687971600-1687986000@www.mountainacreslodge.com
SUMMARY:Dinner Meeting
DESCRIPTION:
URL:https://www.mountainacreslodge.com/event/dinner-meeting-107/
CATEGORIES:Lodge
END:VEVENT
BEGIN:VEVENT
DTSTART;TZID=America/New_York:20230613T080000
DTEND;TZID=America/New_York:20230630T170000
DTSTAMP:20260420T013637
CREATED:20230410T164657Z
LAST-MODIFIED:20230410T164720Z
UID:4475-1686643200-1688144400@www.mountainacreslodge.com
SUMMARY:Floor refinishing - No member use
DESCRIPTION:
URL:https://www.mountainacreslodge.com/event/floor-refinishing-no-member-use/
CATEGORIES:Lodge
END:VEVENT
BEGIN:VEVENT
DTSTART;TZID=America/New_York:20230613T080000
DTEND;TZID=America/New_York:20230624T170000
DTSTAMP:20260420T013637
CREATED:20230315T010422Z
LAST-MODIFIED:20230315T010422Z
UID:4467-1686643200-1687626000@www.mountainacreslodge.com
SUMMARY:Floors being refinished  - no use of lodge
DESCRIPTION:
URL:https://www.mountainacreslodge.com/event/floors-being-refinished-no-use-of-lodge/
END:VEVENT
BEGIN:VEVENT
DTSTART;TZID=America/New_York:20230609T120000
DTEND;TZID=America/New_York:20230612T120000
DTSTAMP:20260420T013637
CREATED:20230311T014146Z
LAST-MODIFIED:20230311T014146Z
UID:4463-1686312000-1686571200@www.mountainacreslodge.com
SUMMARY:Rob Reeder
DESCRIPTION:
URL:https://www.mountainacreslodge.com/event/rob-reeder-13/
CATEGORIES:Lodge
END:VEVENT
BEGIN:VEVENT
DTSTART;TZID=America/New_York:20230602T120000
DTEND;TZID=America/New_York:20230604T120000
DTSTAMP:20260420T013637
CREATED:20230323T141734Z
LAST-MODIFIED:20230323T141734Z
UID:4471-1685707200-1685880000@www.mountainacreslodge.com
SUMMARY:Lee Felmlee
DESCRIPTION:
URL:https://www.mountainacreslodge.com/event/lee-felmlee-6/
CATEGORIES:Lodge
END:VEVENT
BEGIN:VEVENT
DTSTART;TZID=America/New_York:20230526T120000
DTEND;TZID=America/New_York:20230528T120000
DTSTAMP:20260420T013637
CREATED:20221028T000605Z
LAST-MODIFIED:20221028T000605Z
UID:4353-1685102400-1685275200@www.mountainacreslodge.com
SUMMARY:Larry Niemond
DESCRIPTION:
URL:https://www.mountainacreslodge.com/event/larry-niemond-59/
CATEGORIES:Lodge
END:VEVENT
BEGIN:VEVENT
DTSTART;TZID=America/New_York:20230524T170000
DTEND;TZID=America/New_York:20230524T210000
DTSTAMP:20260420T013637
CREATED:20221028T002706Z
LAST-MODIFIED:20221028T002706Z
UID:4397-1684947600-1684962000@www.mountainacreslodge.com
SUMMARY:Dinner Meeting
DESCRIPTION:
URL:https://www.mountainacreslodge.com/event/dinner-meeting-106/
CATEGORIES:Lodge
END:VEVENT
BEGIN:VEVENT
DTSTART;TZID=America/New_York:20230518T120000
DTEND;TZID=America/New_York:20230521T120000
DTSTAMP:20260420T013637
CREATED:20220516T231705Z
LAST-MODIFIED:20220516T231705Z
UID:4263-1684411200-1684670400@www.mountainacreslodge.com
SUMMARY:Conewango Club - Shawn Walker
DESCRIPTION:
URL:https://www.mountainacreslodge.com/event/conewango-club-shawn-walker/
CATEGORIES:Lodge
END:VEVENT
BEGIN:VEVENT
DTSTART;TZID=America/New_York:20230510T120000
DTEND;TZID=America/New_York:20230514T120000
DTSTAMP:20260420T013637
CREATED:20221028T000518Z
LAST-MODIFIED:20221028T000518Z
UID:4351-1683720000-1684065600@www.mountainacreslodge.com
SUMMARY:Neal Smith
DESCRIPTION:
URL:https://www.mountainacreslodge.com/event/neal-smith-70/
CATEGORIES:Lodge
END:VEVENT
BEGIN:VEVENT
DTSTART;TZID=America/New_York:20230504T160000
DTEND;TZID=America/New_York:20230506T120000
DTSTAMP:20260420T013637
CREATED:20221028T000201Z
LAST-MODIFIED:20230501T175757Z
UID:4349-1683216000-1683374400@www.mountainacreslodge.com
SUMMARY:Martin Gillespie
DESCRIPTION:
URL:https://www.mountainacreslodge.com/event/martin-gillespie-37/
CATEGORIES:Lodge
END:VEVENT
BEGIN:VEVENT
DTSTART;TZID=America/New_York:20230503T090000
DTEND;TZID=America/New_York:20230503T113000
DTSTAMP:20260420T013637
CREATED:20230501T180011Z
LAST-MODIFIED:20230501T180011Z
UID:4478-1683104400-1683113400@www.mountainacreslodge.com
SUMMARY:Fire extinguisher service
DESCRIPTION:
URL:https://www.mountainacreslodge.com/event/fire-extinguisher-service/
CATEGORIES:Lodge
END:VEVENT
BEGIN:VEVENT
DTSTART;TZID=America/New_York:20230428T120000
DTEND;TZID=America/New_York:20230430T120000
DTSTAMP:20260420T013637
CREATED:20221027T235844Z
LAST-MODIFIED:20221027T235844Z
UID:4347-1682683200-1682856000@www.mountainacreslodge.com
SUMMARY:Archie Clinger
DESCRIPTION:
URL:https://www.mountainacreslodge.com/event/archie-clinger-17/
CATEGORIES:Lodge
END:VEVENT
BEGIN:VEVENT
DTSTART;TZID=America/New_York:20230426T170000
DTEND;TZID=America/New_York:20230426T210000
DTSTAMP:20260420T013637
CREATED:20221028T002627Z
LAST-MODIFIED:20221028T002627Z
UID:4395-1682528400-1682542800@www.mountainacreslodge.com
SUMMARY:Dinner Meeting
DESCRIPTION:
URL:https://www.mountainacreslodge.com/event/dinner-meeting-105/
CATEGORIES:Lodge
END:VEVENT
BEGIN:VEVENT
DTSTART;TZID=America/New_York:20230421T120000
DTEND;TZID=America/New_York:20230423T120000
DTSTAMP:20260420T013637
CREATED:20221027T235738Z
LAST-MODIFIED:20221028T003725Z
UID:4345-1682078400-1682251200@www.mountainacreslodge.com
SUMMARY:Todd Seitz
DESCRIPTION:
URL:https://www.mountainacreslodge.com/event/todd-seitz-17/
CATEGORIES:Lodge
END:VEVENT
BEGIN:VEVENT
DTSTART;TZID=America/New_York:20230414T120000
DTEND;TZID=America/New_York:20230416T120000
DTSTAMP:20260420T013637
CREATED:20221027T235633Z
LAST-MODIFIED:20221027T235633Z
UID:4343-1681473600-1681646400@www.mountainacreslodge.com
SUMMARY:Dick Albright
DESCRIPTION:
URL:https://www.mountainacreslodge.com/event/dick-albright-33/
CATEGORIES:Lodge
END:VEVENT
BEGIN:VEVENT
DTSTART;TZID=America/New_York:20230410T120000
DTEND;TZID=America/New_York:20230413T120000
DTSTAMP:20260420T013637
CREATED:20230111T234206Z
LAST-MODIFIED:20230111T234206Z
UID:4439-1681128000-1681387200@www.mountainacreslodge.com
SUMMARY:Mary Hughes
DESCRIPTION:
URL:https://www.mountainacreslodge.com/event/mary-hughes/
CATEGORIES:Lodge
END:VEVENT
BEGIN:VEVENT
DTSTART;TZID=America/New_York:20230407T120000
DTEND;TZID=America/New_York:20230409T120000
DTSTAMP:20260420T013637
CREATED:20221027T235554Z
LAST-MODIFIED:20221027T235554Z
UID:4341-1680868800-1681041600@www.mountainacreslodge.com
SUMMARY:Mark Hidlay
DESCRIPTION:
URL:https://www.mountainacreslodge.com/event/mark-hidlay-59/
CATEGORIES:Lodge
END:VEVENT
BEGIN:VEVENT
DTSTART;TZID=America/New_York:20230331T120000
DTEND;TZID=America/New_York:20230402T120000
DTSTAMP:20260420T013637
CREATED:20221027T235520Z
LAST-MODIFIED:20221027T235520Z
UID:4339-1680264000-1680436800@www.mountainacreslodge.com
SUMMARY:Chris Yingling
DESCRIPTION:
URL:https://www.mountainacreslodge.com/event/chris-yingling-21/
CATEGORIES:Lodge
END:VEVENT
BEGIN:VEVENT
DTSTART;TZID=America/New_York:20230329T120000
DTEND;TZID=America/New_York:20230330T170000
DTSTAMP:20260420T013637
CREATED:20230309T023637Z
LAST-MODIFIED:20230309T023637Z
UID:4461-1680091200-1680195600@www.mountainacreslodge.com
SUMMARY:Wade Curry
DESCRIPTION:
URL:https://www.mountainacreslodge.com/event/wade-curry-54/
CATEGORIES:Lodge
END:VEVENT
BEGIN:VEVENT
DTSTART;VALUE=DATE:20230325
DTEND;VALUE=DATE:20230326
DTSTAMP:20260420T013637
CREATED:20221027T235436Z
LAST-MODIFIED:20221027T235436Z
UID:4337-1679702400-1679788799@www.mountainacreslodge.com
SUMMARY:Youth Trout - All members welcome
DESCRIPTION:
URL:https://www.mountainacreslodge.com/event/youth-trout-all-members-welcome/
CATEGORIES:Lodge
END:VEVENT
BEGIN:VEVENT
DTSTART;TZID=America/New_York:20230322T170000
DTEND;TZID=America/New_York:20230322T210000
DTSTAMP:20260420T013637
CREATED:20221028T002549Z
LAST-MODIFIED:20221028T002549Z
UID:4393-1679504400-1679518800@www.mountainacreslodge.com
SUMMARY:Dinner Meeting
DESCRIPTION:
URL:https://www.mountainacreslodge.com/event/dinner-meeting-104/
CATEGORIES:Lodge
END:VEVENT
BEGIN:VEVENT
DTSTART;TZID=America/New_York:20230317T120000
DTEND;TZID=America/New_York:20230319T120000
DTSTAMP:20260420T013637
CREATED:20221027T235402Z
LAST-MODIFIED:20221027T235402Z
UID:4335-1679054400-1679227200@www.mountainacreslodge.com
SUMMARY:Norm Fedon
DESCRIPTION:
URL:https://www.mountainacreslodge.com/event/norm-fedon-37/
CATEGORIES:Lodge
END:VEVENT
BEGIN:VEVENT
DTSTART;TZID=America/New_York:20230310T120000
DTEND;TZID=America/New_York:20230312T120000
DTSTAMP:20260420T013637
CREATED:20221027T235318Z
LAST-MODIFIED:20221027T235318Z
UID:4333-1678449600-1678622400@www.mountainacreslodge.com
SUMMARY:Howard Foss
DESCRIPTION:
URL:https://www.mountainacreslodge.com/event/howard-foss-2/
CATEGORIES:Lodge
END:VEVENT
BEGIN:VEVENT
DTSTART;TZID=America/New_York:20230303T120000
DTEND;TZID=America/New_York:20230305T120000
DTSTAMP:20260420T013637
CREATED:20221027T235243Z
LAST-MODIFIED:20221027T235243Z
UID:4331-1677844800-1678017600@www.mountainacreslodge.com
SUMMARY:Tom Yingling
DESCRIPTION:
URL:https://www.mountainacreslodge.com/event/tom-yingling-45/
CATEGORIES:Lodge
END:VEVENT
BEGIN:VEVENT
DTSTART;TZID=America/New_York:20230224T120000
DTEND;TZID=America/New_York:20230226T120000
DTSTAMP:20260420T013637
CREATED:20221027T235123Z
LAST-MODIFIED:20230202T223149Z
UID:4327-1677240000-1677412800@www.mountainacreslodge.com
SUMMARY:Todd Kulka
DESCRIPTION:
URL:https://www.mountainacreslodge.com/event/todd-kulka-56/
CATEGORIES:Lodge
END:VEVENT
BEGIN:VEVENT
DTSTART;TZID=America/New_York:20230222T170000
DTEND;TZID=America/New_York:20230222T210000
DTSTAMP:20260420T013637
CREATED:20221028T002513Z
LAST-MODIFIED:20221028T002513Z
UID:4391-1677085200-1677099600@www.mountainacreslodge.com
SUMMARY:Dinner Meeting
DESCRIPTION:
URL:https://www.mountainacreslodge.com/event/dinner-meeting-103/
CATEGORIES:Lodge
END:VEVENT
BEGIN:VEVENT
DTSTART;TZID=America/New_York:20230217T120000
DTEND;TZID=America/New_York:20230219T120000
DTSTAMP:20260420T013637
CREATED:20221027T235159Z
LAST-MODIFIED:20230202T223235Z
UID:4329-1676635200-1676808000@www.mountainacreslodge.com
SUMMARY:John Cz
DESCRIPTION:
URL:https://www.mountainacreslodge.com/event/john-cz-42/
CATEGORIES:Lodge
END:VEVENT
END:VCALENDAR