BEGIN:VCALENDAR
VERSION:2.0
PRODID:-//Mountain Acres Lodge - ECPv6.15.20//NONSGML v1.0//EN
CALSCALE:GREGORIAN
METHOD:PUBLISH
X-ORIGINAL-URL:https://www.mountainacreslodge.com
X-WR-CALDESC:Events for Mountain Acres Lodge
REFRESH-INTERVAL;VALUE=DURATION:PT1H
X-Robots-Tag:noindex
X-PUBLISHED-TTL:PT1H
BEGIN:VTIMEZONE
TZID:America/New_York
BEGIN:DAYLIGHT
TZOFFSETFROM:-0500
TZOFFSETTO:-0400
TZNAME:EDT
DTSTART:20230312T070000
END:DAYLIGHT
BEGIN:STANDARD
TZOFFSETFROM:-0400
TZOFFSETTO:-0500
TZNAME:EST
DTSTART:20231105T060000
END:STANDARD
BEGIN:DAYLIGHT
TZOFFSETFROM:-0500
TZOFFSETTO:-0400
TZNAME:EDT
DTSTART:20240310T070000
END:DAYLIGHT
BEGIN:STANDARD
TZOFFSETFROM:-0400
TZOFFSETTO:-0500
TZNAME:EST
DTSTART:20241103T060000
END:STANDARD
BEGIN:DAYLIGHT
TZOFFSETFROM:-0500
TZOFFSETTO:-0400
TZNAME:EDT
DTSTART:20250309T070000
END:DAYLIGHT
BEGIN:STANDARD
TZOFFSETFROM:-0400
TZOFFSETTO:-0500
TZNAME:EST
DTSTART:20251102T060000
END:STANDARD
END:VTIMEZONE
BEGIN:VEVENT
DTSTART;TZID=America/New_York:20240830T160000
DTEND;TZID=America/New_York:20240901T160000
DTSTAMP:20260419T093444
CREATED:20240708T173721Z
LAST-MODIFIED:20240708T173721Z
UID:4699-1725033600-1725206400@www.mountainacreslodge.com
SUMMARY:Mike Chobody
DESCRIPTION:
URL:https://www.mountainacreslodge.com/event/mike-chobody/
CATEGORIES:Lodge
END:VEVENT
BEGIN:VEVENT
DTSTART;TZID=America/New_York:20240913T120000
DTEND;TZID=America/New_York:20240915T120000
DTSTAMP:20260419T093444
CREATED:20231026T233314Z
LAST-MODIFIED:20240130T002959Z
UID:4600-1726228800-1726401600@www.mountainacreslodge.com
SUMMARY:Tasha Hamler
DESCRIPTION:Wedding
URL:https://www.mountainacreslodge.com/event/dick-albright-34/
CATEGORIES:Lodge
END:VEVENT
BEGIN:VEVENT
DTSTART;TZID=America/New_York:20240920T120000
DTEND;TZID=America/New_York:20240922T120000
DTSTAMP:20260419T093444
CREATED:20231026T233402Z
LAST-MODIFIED:20231026T233402Z
UID:4602-1726833600-1727006400@www.mountainacreslodge.com
SUMMARY:Lee Felmlee
DESCRIPTION:
URL:https://www.mountainacreslodge.com/event/lee-felmlee-7/
CATEGORIES:Lodge
END:VEVENT
BEGIN:VEVENT
DTSTART;TZID=America/New_York:20240925T170000
DTEND;TZID=America/New_York:20240925T210000
DTSTAMP:20260419T093444
CREATED:20240823T105850Z
LAST-MODIFIED:20240823T105926Z
UID:4710-1727283600-1727298000@www.mountainacreslodge.com
SUMMARY:Ladies Night
DESCRIPTION:
URL:https://www.mountainacreslodge.com/event/ladies-night-20/
CATEGORIES:Lodge
END:VEVENT
BEGIN:VEVENT
DTSTART;TZID=America/New_York:20240925T190000
DTEND;TZID=America/New_York:20240925T190000
DTSTAMP:20260419T093444
CREATED:20231026T233440Z
LAST-MODIFIED:20231026T233440Z
UID:4604-1727290800-1727290800@www.mountainacreslodge.com
SUMMARY:Dinner Meeting
DESCRIPTION:
URL:https://www.mountainacreslodge.com/event/dinner-meeting-116/
CATEGORIES:Lodge
END:VEVENT
BEGIN:VEVENT
DTSTART;TZID=America/New_York:20240927T120000
DTEND;TZID=America/New_York:20240929T120000
DTSTAMP:20260419T093444
CREATED:20240921T111936Z
LAST-MODIFIED:20240921T111936Z
UID:4740-1727438400-1727611200@www.mountainacreslodge.com
SUMMARY:Todd Seitz
DESCRIPTION:
URL:https://www.mountainacreslodge.com/event/todd-seitz-19/
CATEGORIES:Lodge
END:VEVENT
BEGIN:VEVENT
DTSTART;TZID=America/New_York:20240929T140000
DTEND;TZID=America/New_York:20240929T220000
DTSTAMP:20260419T093444
CREATED:20240902T001801Z
LAST-MODIFIED:20240902T001801Z
UID:4722-1727618400-1727647200@www.mountainacreslodge.com
SUMMARY:Norbe
DESCRIPTION:father in law memorial
URL:https://www.mountainacreslodge.com/event/norbe/
CATEGORIES:Lodge
END:VEVENT
END:VCALENDAR